BEGIN:VCALENDAR
VERSION:2.0
PRODID:-//Rowland Ballard Gyms - ECPv6.15.10//NONSGML v1.0//EN
CALSCALE:GREGORIAN
METHOD:PUBLISH
X-ORIGINAL-URL:https://rowlandballard.com
X-WR-CALDESC:Events for Rowland Ballard Gyms
REFRESH-INTERVAL;VALUE=DURATION:PT1H
X-Robots-Tag:noindex
X-PUBLISHED-TTL:PT1H
BEGIN:VTIMEZONE
TZID:UTC
BEGIN:STANDARD
TZOFFSETFROM:+0000
TZOFFSETTO:+0000
TZNAME:UTC
DTSTART:20250101T000000
END:STANDARD
END:VTIMEZONE
BEGIN:VEVENT
DTSTART;TZID=UTC:20260501T190000
DTEND;TZID=UTC:20260501T213000
DTSTAMP:20260421T111908
CREATED:20260413T233351Z
LAST-MODIFIED:20260413T233352Z
UID:10000805-1777662000-1777671000@rowlandballard.com
SUMMARY:KIDS NIGHT OUT! | May 1 | Friday | 7:00pm-9:30pm
DESCRIPTION:Kids Night Out  \nTime: 7:00pm – 9:30pm \nAges: 5+ \nPrice: $40 \nTake the night off while we keep your kids entertained with nonstop fun! At Kids’ Night Out\, we’ll have open play\, games\, gymnastics\, crafts\, and a pizza dinner! Each Kids’ Night Out has an exciting theme\, keeping the kids engaged while you enjoy a night out. \nWhat To Wear: Come dressed in comfortable clothes.  NO shoes in the gym. \nWhat to Bring: Make sure you bring a water bottle.
URL:https://rowlandballard.com/event/kids-night-out-may-1-friday-700pm-930pm/
LOCATION:Kingwood\, 1320 Kingwood Drive\, Kingwood\, TX\, 77339\, United States
CATEGORIES:Kids Night Out
ORGANIZER;CN="Kingwood":MAILTO:info@rbkingwood.com
END:VEVENT
BEGIN:VEVENT
DTSTART;TZID=UTC:20260501T190000
DTEND;TZID=UTC:20260501T213000
DTSTAMP:20260421T111908
CREATED:20260416T203350Z
LAST-MODIFIED:20260416T203350Z
UID:10000817-1777662000-1777671000@rowlandballard.com
SUMMARY:KIDS NIGHT OUT! | May  | Friday | 7:00pm-9:30pm (COPY)
DESCRIPTION:Kids Night Out  \nTime: 7:00pm – 9:30pm \nAges: 5+ \nPrice: $40 \nTake the night off while we keep your kids entertained with nonstop fun! At Kids’ Night Out\, we’ll have open play\, games\, gymnastics\, crafts\, and a pizza dinner! Each Kids’ Night Out has an exciting theme\, keeping the kids engaged while you enjoy a night out. \nWhat To Wear: Come dressed in comfortable clothes.  NO shoes in the gym. \nWhat to Bring: Make sure you bring a water bottle.
URL:https://rowlandballard.com/event/kids-night-out-may-friday-700pm-930pm-copy/
LOCATION:Kingwood\, 1320 Kingwood Drive\, Kingwood\, TX\, 77339\, United States
CATEGORIES:Kids Night Out
ORGANIZER;CN="Kingwood":MAILTO:info@rbkingwood.com
END:VEVENT
BEGIN:VEVENT
DTSTART;TZID=UTC:20260502T120000
DTEND;TZID=UTC:20260502T130000
DTSTAMP:20260421T111908
CREATED:20260410T013422Z
LAST-MODIFIED:20260410T013423Z
UID:10000804-1777723200-1777726800@rowlandballard.com
SUMMARY:Open Tumble |Open Gym| Ages 6+| May 2nd
DESCRIPTION:Tumbling Open Gym \nMay 2nd from 12:00pm – 1:00pm \nAges 5+ \nPrice $20 \nOur specialized skill clinics provide students with the opportunity to work with our experienced coaches on new drills and techniques to take their skills to the next level. \nWhat to Wear: Students should wear a fitted leotard or athletic clothing that allows for easy movement\, with hair securely tied back. All shoes are to be removed before entering the gym and stored in designated cubbies. For safety and to prevent lost items\, please limit wearing jewelry during class. \nWhat to Bring: Students should bring a labeled water bottle to each class to stay hydrated. All other personal items\, such as bags or extra clothing\, should be kept in a designated cubby during class. Please leave toys\, electronics\, and valuables at home to avoid distractions and prevent lost or damaged items.
URL:https://rowlandballard.com/event/open-tumble-open-gym-ages-6-may-2nd/
LOCATION:Atascocita\, 19505 W Lake Houston Pkwy\, Humble\, TX\, 77346\, United States
CATEGORIES:Clinics
ORGANIZER;CN="Atascocita":MAILTO:info@rbatascocita.com
END:VEVENT
BEGIN:VEVENT
DTSTART;TZID=UTC:20260508T110000
DTEND;TZID=UTC:20260508T120000
DTSTAMP:20260421T111908
CREATED:20260420T193417Z
LAST-MODIFIED:20260420T193417Z
UID:10000818-1778238000-1778241600@rowlandballard.com
SUMMARY:Preschool Fun Gym! | May 8 | Friday | 11:00AM -12:00 PM
DESCRIPTION:Join us for Preschool Fun Gym where your child is welcome to play and explore the gym. All students under 3 must have a parent accompany them. Open to all our Parent/Tot classes\, preschool classes\, and others. \n11am-12pm \n$15
URL:https://rowlandballard.com/event/preschool-fun-gym-may-8-friday-1100am-1200-pm/
LOCATION:Kingwood\, 1320 Kingwood Drive\, Kingwood\, TX\, 77339\, United States
CATEGORIES:Camp
ORGANIZER;CN="Kingwood":MAILTO:info@rbkingwood.com
END:VEVENT
BEGIN:VEVENT
DTSTART;TZID=UTC:20260508T190000
DTEND;TZID=UTC:20260508T213000
DTSTAMP:20260421T111908
CREATED:20260410T003357Z
LAST-MODIFIED:20260410T003357Z
UID:10000803-1778266800-1778275800@rowlandballard.com
SUMMARY:Ice Cream Party |Kids Night Out | Ages 4-13 |May 8
DESCRIPTION:Kids Night Out – Ice Cream Party \nMay 8 – 7:00pm – 9:30pm \nAges 4+ \n$40 \nTake the night off while we keep your kids entertained with nonstop fun! At Kids’ Night Out\, we’ll have open play\, games\, gymnastics\, crafts\, and a pizza dinner! Each Kids’ Night Out has an exciting theme\, keeping the kids engaged while you enjoy a night out. \nWhat To Wear: Come dressed in comfortable clothes.  NO shoes in the gym. \nWhat to Bring: Make sure you bring a water bottle.
URL:https://rowlandballard.com/event/ice-cream-party-kids-night-out-ages-4-13-may-8/
LOCATION:Atascocita\, 19505 W Lake Houston Pkwy\, Humble\, TX\, 77346\, United States
CATEGORIES:Kids Night Out
ORGANIZER;CN="Atascocita":MAILTO:info@rbatascocita.com
END:VEVENT
BEGIN:VEVENT
DTSTART;TZID=UTC:20260509T123000
DTEND;TZID=UTC:20260509T140000
DTSTAMP:20260421T111908
CREATED:20260420T193421Z
LAST-MODIFIED:20260420T193421Z
UID:10000829-1778329800-1778335200@rowlandballard.com
SUMMARY:Back Handspring Clinic| May 9 | Saturday 12:30-2:00 PM
DESCRIPTION: Clinic at Rowland Ballard Kingwood! \nTime: 12:30pm – 2:00pm \nPrice: $30 Per Participant \nAges: 5+ No experience necessary  \nWhat to Expect:  \nOur specialized skill clinics provide students with the opportunity to work with our experienced coaches on new drills and techniques to take their skills to the next level.
URL:https://rowlandballard.com/event/back-handspring-clinic-may-9-saturday-1230-200-pm/
LOCATION:Kingwood\, 1320 Kingwood Drive\, Kingwood\, TX\, 77339\, United States
CATEGORIES:Clinics
ORGANIZER;CN="Kingwood":MAILTO:info@rbkingwood.com
END:VEVENT
BEGIN:VEVENT
DTSTART;TZID=UTC:20260512T173000
DTEND;TZID=UTC:20260512T203000
DTSTAMP:20260421T111908
CREATED:20260223T193400Z
LAST-MODIFIED:20260223T193401Z
UID:10000791-1778607000-1778617800@rowlandballard.com
SUMMARY:CALIBER CHEER TRYOUTS 2026 (5 yrs - 18 yrs) - May 11th - May 14th
DESCRIPTION:
URL:https://rowlandballard.com/event/caliber-cheer-tryouts-2026-5-yrs-18-yrs-may-11th-may-14th/
LOCATION:Atascocita\, 19505 W Lake Houston Pkwy\, Humble\, TX\, 77346\, United States
CATEGORIES:Camp
ORGANIZER;CN="Atascocita":MAILTO:info@rbatascocita.com
END:VEVENT
BEGIN:VEVENT
DTSTART;TZID=UTC:20260515T190000
DTEND;TZID=UTC:20260515T213000
DTSTAMP:20260421T111908
CREATED:20260420T193419Z
LAST-MODIFIED:20260420T193419Z
UID:10000825-1778871600-1778880600@rowlandballard.com
SUMMARY:KIDS NIGHT OUT! | May 15 | Friday | 7:00pm-9:30pm
DESCRIPTION:Kids Night Out  \nTime: 7:00pm – 9:30pm \nAges: 5+ \nPrice: $40 \nTake the night off while we keep your kids entertained with nonstop fun! At Kids’ Night Out\, we’ll have open play\, games\, gymnastics\, crafts\, and a pizza dinner! Each Kids’ Night Out has an exciting theme\, keeping the kids engaged while you enjoy a night out. \nWhat To Wear: Come dressed in comfortable clothes.  NO shoes in the gym. \nWhat to Bring: Make sure you bring a water bottle.
URL:https://rowlandballard.com/event/kids-night-out-may-15-friday-700pm-930pm/
LOCATION:Kingwood\, 1320 Kingwood Drive\, Kingwood\, TX\, 77339\, United States
CATEGORIES:Kids Night Out
ORGANIZER;CN="Kingwood":MAILTO:info@rbkingwood.com
END:VEVENT
BEGIN:VEVENT
DTSTART;TZID=UTC:20260516T120000
DTEND;TZID=UTC:20260516T130000
DTSTAMP:20260421T111908
CREATED:20260413T233359Z
LAST-MODIFIED:20260413T233359Z
UID:10000806-1778932800-1778936400@rowlandballard.com
SUMMARY:Tumbling |Clinic| Ages 6+| May 16
DESCRIPTION:Tumbling Clinic \nMay 16th at 12:00pm – 1:00pm \nAges 5+ \nPrice $30 \nOur specialized skill clinics provide students with the opportunity to work with our experienced coaches on new drills and techniques to take their skills to the next level. \nWhat to Wear: Students should wear a fitted leotard or athletic clothing that allows for easy movement\, with hair securely tied back. All shoes are to be removed before entering the gym and stored in designated cubbies. For safety and to prevent lost items\, please limit wearing jewelry during class. \nWhat to Bring: Students should bring a labeled water bottle to each class to stay hydrated. All other personal items\, such as bags or extra clothing\, should be kept in a designated cubby during class. Please leave toys\, electronics\, and valuables at home to avoid distractions and prevent lost or damaged items.
URL:https://rowlandballard.com/event/tumbling-clinic-ages-6-may-16/
LOCATION:Atascocita\, 19505 W Lake Houston Pkwy\, Humble\, TX\, 77346\, United States
CATEGORIES:Clinics
ORGANIZER;CN="Atascocita":MAILTO:info@rbatascocita.com
END:VEVENT
BEGIN:VEVENT
DTSTART;TZID=UTC:20260522T110000
DTEND;TZID=UTC:20260522T120000
DTSTAMP:20260421T111908
CREATED:20260420T193417Z
LAST-MODIFIED:20260420T193417Z
UID:10000819-1779447600-1779451200@rowlandballard.com
SUMMARY:Preschool Fun Gym! | May 22 | Friday | 11:00AM -12:00 PM
DESCRIPTION:Join us for Preschool Fun Gym where your child is welcome to play and explore the gym. All students under 3 must have a parent accompany them. Open to all our Parent/Tot classes\, preschool classes\, and others. \n11am-12pm \n$15
URL:https://rowlandballard.com/event/preschool-fun-gym-may-22-friday-1100am-1200-pm/
LOCATION:Kingwood\, 1320 Kingwood Drive\, Kingwood\, TX\, 77339\, United States
CATEGORIES:Camp
ORGANIZER;CN="Kingwood":MAILTO:info@rbkingwood.com
END:VEVENT
BEGIN:VEVENT
DTSTART;TZID=UTC:20260522T190000
DTEND;TZID=UTC:20260522T213000
DTSTAMP:20260421T111908
CREATED:20260413T233359Z
LAST-MODIFIED:20260413T233400Z
UID:10000807-1779476400-1779485400@rowlandballard.com
SUMMARY:School's Out Celebration |Kids Night Out | Ages 4-13 |May 22
DESCRIPTION:Kids Night Out – School’s Out Celebration \nMay 22 – 7:00pm – 9:30pm \nAges 4+ \n$40 \nTake the night off while we keep your kids entertained with nonstop fun! At Kids’ Night Out\, we’ll have open play\, games\, gymnastics\, crafts\, and a pizza dinner! Each Kids’ Night Out has an exciting theme\, keeping the kids engaged while you enjoy a night out. \nWhat To Wear: Come dressed in comfortable clothes.  NO shoes in the gym. \nWhat to Bring: Make sure you bring a water bottle.
URL:https://rowlandballard.com/event/schools-out-celebration-kids-night-out-ages-4-13-may-22/
LOCATION:Atascocita\, 19505 W Lake Houston Pkwy\, Humble\, TX\, 77346\, United States
CATEGORIES:Kids Night Out
ORGANIZER;CN="Atascocita":MAILTO:info@rbatascocita.com
END:VEVENT
BEGIN:VEVENT
DTSTART;TZID=UTC:20260523T123000
DTEND;TZID=UTC:20260523T140000
DTSTAMP:20260421T111908
CREATED:20260420T193421Z
LAST-MODIFIED:20260420T193421Z
UID:10000830-1779539400-1779544800@rowlandballard.com
SUMMARY:Muscle Mania + Tumbling Clinic| May 23 | Saturday 12:30-2:00 PM
DESCRIPTION: Clinic at Rowland Ballard Kingwood! \nTime: 12:30pm – 2:00pm \nPrice: $30 Per Participant \nAges: 5+ No experience necessary  \nWhat to Expect:  \nOur specialized skill clinics provide students with the opportunity to work with our experienced coaches on new drills and techniques to take their skills to the next level.
URL:https://rowlandballard.com/event/muscle-mania-tumbling-clinic-may-23-saturday-1230-200-pm/
LOCATION:Kingwood\, 1320 Kingwood Drive\, Kingwood\, TX\, 77339\, United States
CATEGORIES:Clinics
ORGANIZER;CN="Kingwood":MAILTO:info@rbkingwood.com
END:VEVENT
END:VCALENDAR