BEGIN:VCALENDAR
VERSION:2.0
PRODID:-//Rowland Ballard Gyms - ECPv6.15.10//NONSGML v1.0//EN
CALSCALE:GREGORIAN
METHOD:PUBLISH
X-WR-CALNAME:Rowland Ballard Gyms
X-ORIGINAL-URL:https://rowlandballard.com
X-WR-CALDESC:Events for Rowland Ballard Gyms
REFRESH-INTERVAL;VALUE=DURATION:PT1H
X-Robots-Tag:noindex
X-PUBLISHED-TTL:PT1H
BEGIN:VTIMEZONE
TZID:UTC
BEGIN:STANDARD
TZOFFSETFROM:+0000
TZOFFSETTO:+0000
TZNAME:UTC
DTSTART:20250101T000000
END:STANDARD
END:VTIMEZONE
BEGIN:VEVENT
DTSTART;TZID=UTC:20260703T190000
DTEND;TZID=UTC:20260703T213000
DTSTAMP:20260421T185101
CREATED:20260416T193522Z
LAST-MODIFIED:20260416T193523Z
UID:10000814-1783105200-1783114200@rowlandballard.com
SUMMARY:Ice Cream Party |Kids Night Out | Ages 4-13 |July 3
DESCRIPTION:Kids Night Out – Ice Cream Party \nJuly 3rd – 7:00pm – 9:30pm \nAges 4+ \n$40 \nTake the night off while we keep your kids entertained with nonstop fun! At Kids’ Night Out\, we’ll have open play\, games\, gymnastics\, crafts\, and a pizza dinner! Each Kids’ Night Out has an exciting theme\, keeping the kids engaged while you enjoy a night out. \nWhat To Wear: Come dressed in comfortable clothes.  NO shoes in the gym. \nWhat to Bring: Make sure you bring a water bottle.
URL:https://rowlandballard.com/event/ice-cream-party-kids-night-out-ages-4-13-july-3/
LOCATION:Atascocita\, 19505 W Lake Houston Pkwy\, Humble\, TX\, 77346\, United States
CATEGORIES:Kids Night Out
ORGANIZER;CN="Atascocita":MAILTO:info@rbatascocita.com
END:VEVENT
BEGIN:VEVENT
DTSTART;TZID=UTC:20260710T190000
DTEND;TZID=UTC:20260710T213000
DTSTAMP:20260421T185101
CREATED:20260420T193420Z
LAST-MODIFIED:20260420T193420Z
UID:10000827-1783710000-1783719000@rowlandballard.com
SUMMARY:KIDS NIGHT OUT! | July 10 | Friday | 7:00pm-9:30pm
DESCRIPTION:Kids Night Out  \nTime: 7:00pm – 9:30pm \nAges: 5+ \nPrice: $40 \nTake the night off while we keep your kids entertained with nonstop fun! At Kids’ Night Out\, we’ll have open play\, games\, gymnastics\, crafts\, and a pizza dinner! Each Kids’ Night Out has an exciting theme\, keeping the kids engaged while you enjoy a night out. \nWhat To Wear: Come dressed in comfortable clothes.  NO shoes in the gym. \nWhat to Bring: Make sure you bring a water bottle.
URL:https://rowlandballard.com/event/kids-night-out-july-10-friday-700pm-930pm/
LOCATION:Kingwood\, 1320 Kingwood Drive\, Kingwood\, TX\, 77339\, United States
CATEGORIES:Kids Night Out
ORGANIZER;CN="Kingwood":MAILTO:info@rbkingwood.com
END:VEVENT
BEGIN:VEVENT
DTSTART;TZID=UTC:20260717T190000
DTEND;TZID=UTC:20260717T213000
DTSTAMP:20260421T185101
CREATED:20260416T193523Z
LAST-MODIFIED:20260416T193523Z
UID:10000815-1784314800-1784323800@rowlandballard.com
SUMMARY:Pinata Party |Kids Night Out | Ages 4-13 |July 17
DESCRIPTION:Kids Night Out – Pinata Party \nJuly 17th – 7:00pm – 9:30pm \nAges 4+ \n$40 \nTake the night off while we keep your kids entertained with nonstop fun! At Kids’ Night Out\, we’ll have open play\, games\, gymnastics\, crafts\, and a pizza dinner! Each Kids’ Night Out has an exciting theme\, keeping the kids engaged while you enjoy a night out. \nWhat To Wear: Come dressed in comfortable clothes.  NO shoes in the gym. \nWhat to Bring: Make sure you bring a water bottle.
URL:https://rowlandballard.com/event/pinata-party-kids-night-out-ages-4-13-july-17/
LOCATION:Atascocita\, 19505 W Lake Houston Pkwy\, Humble\, TX\, 77346\, United States
CATEGORIES:Kids Night Out
ORGANIZER;CN="Atascocita":MAILTO:info@rbatascocita.com
END:VEVENT
BEGIN:VEVENT
DTSTART;TZID=UTC:20260724T190000
DTEND;TZID=UTC:20260724T213000
DTSTAMP:20260421T185101
CREATED:20260420T193420Z
LAST-MODIFIED:20260420T193421Z
UID:10000828-1784919600-1784928600@rowlandballard.com
SUMMARY:KIDS NIGHT OUT! | July 24 | Friday | 7:00pm-9:30pm
DESCRIPTION:Kids Night Out  \nTime: 7:00pm – 9:30pm \nAges: 5+ \nPrice: $40 \nTake the night off while we keep your kids entertained with nonstop fun! At Kids’ Night Out\, we’ll have open play\, games\, gymnastics\, crafts\, and a pizza dinner! Each Kids’ Night Out has an exciting theme\, keeping the kids engaged while you enjoy a night out. \nWhat To Wear: Come dressed in comfortable clothes.  NO shoes in the gym. \nWhat to Bring: Make sure you bring a water bottle.
URL:https://rowlandballard.com/event/kids-night-out-july-24-friday-700pm-930pm/
LOCATION:Kingwood\, 1320 Kingwood Drive\, Kingwood\, TX\, 77339\, United States
CATEGORIES:Kids Night Out
ORGANIZER;CN="Kingwood":MAILTO:info@rbkingwood.com
END:VEVENT
BEGIN:VEVENT
DTSTART;TZID=UTC:20260731T190000
DTEND;TZID=UTC:20260731T213000
DTSTAMP:20260421T185101
CREATED:20260416T193523Z
LAST-MODIFIED:20260416T193523Z
UID:10000816-1785524400-1785533400@rowlandballard.com
SUMMARY:Mad Scientist |Kids Night Out | Ages 4-13 |July 31
DESCRIPTION:Kids Night Out – Treasure Hunt \nJuly 31st – 7:00pm – 9:30pm \nAges 4+ \n$40 \nTake the night off while we keep your kids entertained with nonstop fun! At Kids’ Night Out\, we’ll have open play\, games\, gymnastics\, crafts\, and a pizza dinner! Each Kids’ Night Out has an exciting theme\, keeping the kids engaged while you enjoy a night out. \nWhat To Wear: Come dressed in comfortable clothes.  NO shoes in the gym. \nWhat to Bring: Make sure you bring a water bottle.
URL:https://rowlandballard.com/event/mad-scientist-kids-night-out-ages-4-13-july-31/
LOCATION:Atascocita\, 19505 W Lake Houston Pkwy\, Humble\, TX\, 77346\, United States
CATEGORIES:Kids Night Out
ORGANIZER;CN="Atascocita":MAILTO:info@rbatascocita.com
END:VEVENT
END:VCALENDAR