BEGIN:VCALENDAR
VERSION:2.0
PRODID:-//Rowland Ballard Gyms - ECPv6.15.10//NONSGML v1.0//EN
CALSCALE:GREGORIAN
METHOD:PUBLISH
X-WR-CALNAME:Rowland Ballard Gyms
X-ORIGINAL-URL:https://rowlandballard.com
X-WR-CALDESC:Events for Rowland Ballard Gyms
REFRESH-INTERVAL;VALUE=DURATION:PT1H
X-Robots-Tag:noindex
X-PUBLISHED-TTL:PT1H
BEGIN:VTIMEZONE
TZID:UTC
BEGIN:STANDARD
TZOFFSETFROM:+0000
TZOFFSETTO:+0000
TZNAME:UTC
DTSTART:20250101T000000
END:STANDARD
END:VTIMEZONE
BEGIN:VEVENT
DTSTART;TZID=UTC:20260501T190000
DTEND;TZID=UTC:20260501T213000
DTSTAMP:20260421T124959
CREATED:20260413T233351Z
LAST-MODIFIED:20260413T233352Z
UID:10000805-1777662000-1777671000@rowlandballard.com
SUMMARY:KIDS NIGHT OUT! | May 1 | Friday | 7:00pm-9:30pm
DESCRIPTION:Kids Night Out  \nTime: 7:00pm – 9:30pm \nAges: 5+ \nPrice: $40 \nTake the night off while we keep your kids entertained with nonstop fun! At Kids’ Night Out\, we’ll have open play\, games\, gymnastics\, crafts\, and a pizza dinner! Each Kids’ Night Out has an exciting theme\, keeping the kids engaged while you enjoy a night out. \nWhat To Wear: Come dressed in comfortable clothes.  NO shoes in the gym. \nWhat to Bring: Make sure you bring a water bottle.
URL:https://rowlandballard.com/event/kids-night-out-may-1-friday-700pm-930pm/
LOCATION:Kingwood\, 1320 Kingwood Drive\, Kingwood\, TX\, 77339\, United States
CATEGORIES:Kids Night Out
ORGANIZER;CN="Kingwood":MAILTO:info@rbkingwood.com
END:VEVENT
BEGIN:VEVENT
DTSTART;TZID=UTC:20260501T190000
DTEND;TZID=UTC:20260501T213000
DTSTAMP:20260421T124959
CREATED:20260416T203350Z
LAST-MODIFIED:20260416T203350Z
UID:10000817-1777662000-1777671000@rowlandballard.com
SUMMARY:KIDS NIGHT OUT! | May  | Friday | 7:00pm-9:30pm (COPY)
DESCRIPTION:Kids Night Out  \nTime: 7:00pm – 9:30pm \nAges: 5+ \nPrice: $40 \nTake the night off while we keep your kids entertained with nonstop fun! At Kids’ Night Out\, we’ll have open play\, games\, gymnastics\, crafts\, and a pizza dinner! Each Kids’ Night Out has an exciting theme\, keeping the kids engaged while you enjoy a night out. \nWhat To Wear: Come dressed in comfortable clothes.  NO shoes in the gym. \nWhat to Bring: Make sure you bring a water bottle.
URL:https://rowlandballard.com/event/kids-night-out-may-friday-700pm-930pm-copy/
LOCATION:Kingwood\, 1320 Kingwood Drive\, Kingwood\, TX\, 77339\, United States
CATEGORIES:Kids Night Out
ORGANIZER;CN="Kingwood":MAILTO:info@rbkingwood.com
END:VEVENT
END:VCALENDAR